BEGIN:VCALENDAR
VERSION:2.0
PRODID:-//Tukios.com/
BEGIN:VEVENT
UID:174c5bbd-bb23-435b-8dd4-fd7aef2ecd38@www.cheathamcountyfh.com
DTSTAMP:20260425T010041Z
DTSTART:20260427T200000Z
DTEND:20260427T230000Z
SUMMARY:Visitation
DESCRIPTION:
URL:https://www.cheathamcountyfh.com/obituaries/michael-denson-jr
LOCATION: 117 Elizabeth St  Ashland City TN 37015
GEO:36.2696673;-87.0623749
END:VEVENT
END:VCALENDAR