BEGIN:VCALENDAR
VERSION:2.0
PRODID:-//Tukios.com/
BEGIN:VEVENT
UID:2b39107d-3fd7-45b0-baa0-a42e9874c982@www.cheathamcountyfh.com
DTSTAMP:20260425T010159Z
DTSTART:20260427T230000Z
DTEND:20260428T000000Z
SUMMARY:Funeral Service
DESCRIPTION:
URL:https://www.cheathamcountyfh.com/obituaries/michael-denson-jr
LOCATION: 117 Elizabeth St  Ashland City TN 37015
GEO:36.2696673;-87.0623749
END:VEVENT
END:VCALENDAR